BEGIN:VCALENDAR
VERSION:2.0
PRODID:-//wp-events-plugin.com//7.2.3.1//EN
BEGIN:VEVENT
UID:0-13@tenthplanet.in
DTSTART:20111114T000000Z
DTEND:20111114T000000Z
DTSTAMP:20250611T120649Z
URL:https://tenthplanet.in/community/events/agile-software-development-dr-
 venkat-subramaniam/
SUMMARY:Agile Software Development - Dr.Venkat subramaniam
DESCRIPTION:Dr.Venkat subramaniam was a speaker of a Java Seminar held on 1
 6-04-11. He is the founder of Agile Developer\, Inc.\, has trained and men
 tored thousands of software developers in the US\, Canada\, Europe and Asi
 a. Venkat helps his clients to effectively apply and succeed with agile pr
 actices on their software projects. He speaks frequently at international 
 conferences and user groups and  he is a author of ".NET Gotchas\," coaut
 hor of 2007 Jolt Productivity Award winning " Practices of an Agile Develo
 per\," author of " Programming Groovy: Dynamic  productivity for the Java
  Developer" and "Programming Scala: Tackle Multi - Core Complexity on the 
 Java Virtual Machine".
ATTACH;FMTTYPE=image/jpeg:https://tenthplanet.in/community/wp-content/uplo
 ads/sites/20/2025/06/Agile-Software-Development.png
END:VEVENT
END:VCALENDAR