BEGIN:VCALENDAR
VERSION:2.0
PRODID:-//wp-events-plugin.com//7.2.3.1//EN
BEGIN:VEVENT
UID:0-17@tenthplanet.in
DTSTART:20130613T000000Z
DTEND:20130613T000000Z
DTSTAMP:20250611T121607Z
URL:https://tenthplanet.in/community/events/create-a-simple-web-applicatio
 n-using-java/
SUMMARY:Create a simple web application using Java
DESCRIPTION:Everyone knows that there is a famous programming language call
 ed Java. This programming language has become so popular that every IT guy
  should have a knowledge about it. In this Java Summit initiated by Jug Ch
 ennai\, Senthil Nayagam who is an Java expert gives confidence to java beg
 inners that they can also create simple web applications through Java easi
 ly. Get Inspired !
ATTACH;FMTTYPE=image/jpeg:https://tenthplanet.in/community/wp-content/uplo
 ads/sites/20/2025/06/Create-Simple-Web-Application-using-Java.png
END:VEVENT
END:VCALENDAR