BEGIN:VCALENDAR
VERSION:2.0
PRODID:-//wp-events-plugin.com//7.2.3.1//EN
BEGIN:VEVENT
UID:0-6@tenthplanet.in
DTSTART:20110120T000000Z
DTEND:20110120T000000Z
DTSTAMP:20250611T114727Z
URL:https://tenthplanet.in/community/events/open-source-job-fair-for-job-s
 eekers-2/
SUMMARY:Open source job fair for job seekers
DESCRIPTION:June 30th 2011 there was a big turning for 4 jobseekers who wer
 e hired by Polaris. Mr. Rohit and Mr.Suresh from polaris met Jobseekers wh
 o are doing SATORI DIY program. They explained the requirements of Polaris
  from IT freshers. They said aptitude and attitude play an important role 
 in a jobseeker’s selection. There was a small question and answer sessio
 n where jobseekers asked for interview tips. The executives handed over th
 e offer letters to jobseekers who said how SATORI-DIY had realy helped the
 m to get their career started in Polaris.
ATTACH;FMTTYPE=image/jpeg:https://tenthplanet.in/community/wp-content/uplo
 ads/sites/20/2025/06/ploaris.jpg
END:VEVENT
END:VCALENDAR